Package: eudysbiome Version: 1.39.0 Command: rm -rf eudysbiome.buildbin-libdir && mkdir eudysbiome.buildbin-libdir && /Users/biocbuild/BBS/utils/build-universal.sh eudysbiome_1.39.0.tar.gz /Library/Frameworks/R.framework/Resources/bin/R eudysbiome.buildbin-libdir StartedAt: 2025-07-22 22:23:54 -0400 (Tue, 22 Jul 2025) EndedAt: 2025-07-22 22:24:00 -0400 (Tue, 22 Jul 2025) EllapsedTime: 6.1 seconds RetCode: 0 Status: OK PackageFile: eudysbiome_1.39.0.tgz PackageFileSize: 4.409 MiB