Package: esetVis Version: 1.37.0 Command: /home/biocbuild/bbs-3.23-bioc/R/bin/R CMD INSTALL esetVis StartedAt: 2025-11-06 15:31:07 -0500 (Thu, 06 Nov 2025) EndedAt: 2025-11-06 15:31:21 -0500 (Thu, 06 Nov 2025) EllapsedTime: 14.3 seconds RetCode: 0 Status: OK