Package: esetVis Version: 1.35.0 Command: /Library/Frameworks/R.framework/Resources/bin/R CMD INSTALL esetVis StartedAt: 2025-07-11 15:27:00 -0400 (Fri, 11 Jul 2025) EndedAt: 2025-07-11 15:27:20 -0400 (Fri, 11 Jul 2025) EllapsedTime: 20.6 seconds RetCode: 0 Status: OK