Package: esetVis Version: 1.35.0 Command: /Library/Frameworks/R.framework/Resources/bin/R CMD check --install=check:esetVis.install-out.txt --library=/Library/Frameworks/R.framework/Resources/library --no-vignettes --timings esetVis_1.35.0.tar.gz StartedAt: 2025-07-11 20:38:26 -0400 (Fri, 11 Jul 2025) EndedAt: 2025-07-11 20:42:13 -0400 (Fri, 11 Jul 2025) EllapsedTime: 227.1 seconds RetCode: 0 Status: OK CheckDir: esetVis.Rcheck Warnings: 0