Package: escheR Version: 1.9.0 Command: /home/biocbuild/R/R/bin/R CMD check --install=check:escheR.install-out.txt --library=/home/biocbuild/R/R/site-library --no-vignettes --timings escheR_1.9.0.tar.gz StartedAt: 2025-07-01 07:12:27 -0000 (Tue, 01 Jul 2025) EndedAt: 2025-07-01 07:52:28 -0000 (Tue, 01 Jul 2025) EllapsedTime: 2400.6 seconds RetCode: None Status: TIMEOUT CheckDir: escheR.Rcheck Warnings: NA