Package: escheR Version: 1.9.0 Command: /home/biocbuild/R/R/bin/R CMD build --keep-empty-dirs --no-resave-data escheR StartedAt: 2025-06-30 23:33:09 -0000 (Mon, 30 Jun 2025) EndedAt: 2025-06-30 23:36:10 -0000 (Mon, 30 Jun 2025) EllapsedTime: 181.1 seconds RetCode: 0 Status: OK PackageFile: escheR_1.9.0.tar.gz PackageFileSize: 1.359 MiB