Package: escheR Version: 1.9.0 Command: rm -rf escheR.buildbin-libdir && mkdir escheR.buildbin-libdir && F:\biocbuild\bbs-3.22-bioc\R\bin\R.exe CMD INSTALL --build --library=escheR.buildbin-libdir escheR_1.9.0.tar.gz StartedAt: 2025-07-14 08:57:05 -0400 (Mon, 14 Jul 2025) EndedAt: 2025-07-14 08:57:37 -0400 (Mon, 14 Jul 2025) EllapsedTime: 32.4 seconds RetCode: 0 Status: OK PackageFile: escheR_1.9.0.zip PackageFileSize: 933.4 KiB