Package: escheR Version: 1.9.0 Command: /Library/Frameworks/R.framework/Resources/bin/R CMD INSTALL escheR StartedAt: 2025-07-01 15:11:56 -0400 (Tue, 01 Jul 2025) EndedAt: 2025-07-01 15:12:07 -0400 (Tue, 01 Jul 2025) EllapsedTime: 10.8 seconds RetCode: 0 Status: OK