Package: escape Version: 2.5.4 Command: F:\biocbuild\bbs-3.22-bioc\R\bin\R.exe CMD check --no-multiarch --install=check:escape.install-out.txt --library=F:\biocbuild\bbs-3.22-bioc\R\library --no-vignettes --timings escape_2.5.4.tar.gz StartedAt: 2025-07-14 01:54:54 -0400 (Mon, 14 Jul 2025) EndedAt: 2025-07-14 01:59:19 -0400 (Mon, 14 Jul 2025) EllapsedTime: 265.8 seconds RetCode: 0 Status: OK CheckDir: escape.Rcheck Warnings: 0