Package: escape Version: 2.5.4 Command: /home/biocbuild/bbs-3.22-bioc/R/bin/R CMD check --install=check:escape.install-out.txt --library=/home/biocbuild/bbs-3.22-bioc/R/site-library --timings escape_2.5.4.tar.gz StartedAt: 2025-06-30 22:09:49 -0400 (Mon, 30 Jun 2025) EndedAt: 2025-06-30 22:14:01 -0400 (Mon, 30 Jun 2025) EllapsedTime: 252.3 seconds RetCode: 0 Status: OK CheckDir: escape.Rcheck Warnings: 0