Package: escape Version: 2.5.4 Command: /home/biocbuild/bbs-3.22-bioc/R/bin/R CMD build --keep-empty-dirs --no-resave-data --md5 escape StartedAt: 2025-06-30 17:14:01 -0400 (Mon, 30 Jun 2025) EndedAt: 2025-06-30 17:15:08 -0400 (Mon, 30 Jun 2025) EllapsedTime: 67.1 seconds RetCode: 0 Status: OK PackageFile: escape_2.5.4.tar.gz PackageFileSize: 1.6 MiB