Package: escape Version: 2.5.4 Command: /Library/Frameworks/R.framework/Resources/bin/R CMD build --keep-empty-dirs --no-resave-data escape StartedAt: 2025-07-22 16:46:45 -0400 (Tue, 22 Jul 2025) EndedAt: 2025-07-22 16:48:01 -0400 (Tue, 22 Jul 2025) EllapsedTime: 76.5 seconds RetCode: 0 Status: OK PackageFile: escape_2.5.4.tar.gz PackageFileSize: 1.646 MiB