Package: escape Version: 2.5.4 Command: /Library/Frameworks/R.framework/Resources/bin/R CMD INSTALL escape StartedAt: 2025-07-21 15:11:33 -0400 (Mon, 21 Jul 2025) EndedAt: 2025-07-21 15:11:42 -0400 (Mon, 21 Jul 2025) EllapsedTime: 9.3 seconds RetCode: 0 Status: OK