Package: escape Version: 2.5.4 Command: /Library/Frameworks/R.framework/Resources/bin/R CMD check --install=check:escape.install-out.txt --library=/Library/Frameworks/R.framework/Resources/library --no-vignettes --timings escape_2.5.4.tar.gz StartedAt: 2025-07-21 19:12:55 -0400 (Mon, 21 Jul 2025) EndedAt: 2025-07-21 19:14:18 -0400 (Mon, 21 Jul 2025) EllapsedTime: 83.0 seconds RetCode: 0 Status: OK CheckDir: escape.Rcheck Warnings: 0