Package: escape Version: 2.5.4 Command: rm -rf escape.buildbin-libdir && mkdir escape.buildbin-libdir && /Users/biocbuild/BBS/utils/build-universal.sh escape_2.5.4.tar.gz /Library/Frameworks/R.framework/Resources/bin/R escape.buildbin-libdir StartedAt: 2025-07-21 22:24:55 -0400 (Mon, 21 Jul 2025) EndedAt: 2025-07-21 22:25:06 -0400 (Mon, 21 Jul 2025) EllapsedTime: 11.2 seconds RetCode: 0 Status: OK PackageFile: escape_2.5.4.tgz PackageFileSize: 1.7 MiB