Package: esATAC Version: 1.31.0 Command: /home/biocbuild/R/R/bin/R CMD build --keep-empty-dirs --no-resave-data esATAC StartedAt: 2025-07-14 23:31:20 -0000 (Mon, 14 Jul 2025) EndedAt: 2025-07-14 23:33:19 -0000 (Mon, 14 Jul 2025) EllapsedTime: 119.0 seconds RetCode: 0 Status: OK PackageFile: esATAC_1.31.0.tar.gz PackageFileSize: 9.864 MiB