Package: esATAC Version: 1.31.0 Command: F:\biocbuild\bbs-3.22-bioc\R\bin\R.exe CMD check --no-multiarch --install=check:esATAC.install-out.txt --library=F:\biocbuild\bbs-3.22-bioc\R\library --no-vignettes --timings esATAC_1.31.0.tar.gz StartedAt: 2025-07-02 01:47:28 -0400 (Wed, 02 Jul 2025) EndedAt: 2025-07-02 01:57:41 -0400 (Wed, 02 Jul 2025) EllapsedTime: 613.1 seconds RetCode: 0 Status: OK CheckDir: esATAC.Rcheck Warnings: 0