Package: esATAC Version: 1.31.0 Command: /Library/Frameworks/R.framework/Resources/bin/R CMD INSTALL esATAC StartedAt: 2025-07-07 15:48:08 -0400 (Mon, 07 Jul 2025) EndedAt: 2025-07-07 15:49:34 -0400 (Mon, 07 Jul 2025) EllapsedTime: 86.0 seconds RetCode: 0 Status: OK