Package: esATAC Version: 1.31.0 Command: /Library/Frameworks/R.framework/Resources/bin/R CMD build --keep-empty-dirs --no-resave-data esATAC StartedAt: 2025-07-07 16:52:25 -0400 (Mon, 07 Jul 2025) EndedAt: 2025-07-07 16:53:56 -0400 (Mon, 07 Jul 2025) EllapsedTime: 91.2 seconds RetCode: 0 Status: OK PackageFile: esATAC_1.31.0.tar.gz PackageFileSize: 9.863 MiB