Package: esATAC Version: 1.31.0 Command: rm -rf esATAC.buildbin-libdir && mkdir esATAC.buildbin-libdir && /Users/biocbuild/BBS/utils/build-universal.sh esATAC_1.31.0.tar.gz /Library/Frameworks/R.framework/Resources/bin/R esATAC.buildbin-libdir StartedAt: 2025-07-08 00:52:09 -0400 (Tue, 08 Jul 2025) EndedAt: 2025-07-08 00:54:07 -0400 (Tue, 08 Jul 2025) EllapsedTime: 118.3 seconds RetCode: 0 Status: OK PackageFile: esATAC_1.31.0.tgz PackageFileSize: 8.172 MiB