Package: esATAC Version: 1.31.0 Command: /Library/Frameworks/R.framework/Resources/bin/R CMD check --install=check:esATAC.install-out.txt --library=/Library/Frameworks/R.framework/Resources/library --no-vignettes --timings esATAC_1.31.0.tar.gz StartedAt: 2025-07-13 19:10:03 -0400 (Sun, 13 Jul 2025) EndedAt: 2025-07-13 19:12:48 -0400 (Sun, 13 Jul 2025) EllapsedTime: 165.3 seconds RetCode: 0 Status: OK CheckDir: esATAC.Rcheck Warnings: 0