Package: esATAC Version: 1.31.0 Command: /Library/Frameworks/R.framework/Resources/bin/R CMD build --keep-empty-dirs --no-resave-data esATAC StartedAt: 2025-07-13 16:16:00 -0400 (Sun, 13 Jul 2025) EndedAt: 2025-07-13 16:16:33 -0400 (Sun, 13 Jul 2025) EllapsedTime: 33.4 seconds RetCode: 0 Status: OK PackageFile: esATAC_1.31.0.tar.gz PackageFileSize: 9.863 MiB