Package: erma Version: 1.23.1 Command: F:\biocbuild\bbs-3.22-bioc\R\bin\R.exe CMD check --no-multiarch --install=check:erma.install-out.txt --library=F:\biocbuild\bbs-3.22-bioc\R\library --no-vignettes --timings erma_1.23.1.tar.gz StartedAt: 2025-04-09 02:01:32 -0400 (Wed, 09 Apr 2025) EndedAt: 2025-04-09 02:11:30 -0400 (Wed, 09 Apr 2025) EllapsedTime: 598.0 seconds RetCode: 0 Status: OK CheckDir: erma.Rcheck Warnings: 0