Package: epivizrStandalone Version: 1.37.0 Command: /home/biocbuild/R/R/bin/R CMD INSTALL epivizrStandalone StartedAt: 2025-07-21 21:16:47 -0000 (Mon, 21 Jul 2025) EndedAt: 2025-07-21 21:17:39 -0000 (Mon, 21 Jul 2025) EllapsedTime: 52.4 seconds RetCode: 0 Status: OK