Package: epivizrStandalone Version: 1.37.0 Command: /home/biocbuild/R/R/bin/R CMD build --keep-empty-dirs --no-resave-data epivizrStandalone StartedAt: 2025-07-21 23:39:34 -0000 (Mon, 21 Jul 2025) EndedAt: 2025-07-21 23:40:28 -0000 (Mon, 21 Jul 2025) EllapsedTime: 54.0 seconds RetCode: 0 Status: OK PackageFile: epivizrStandalone_1.37.0.tar.gz PackageFileSize: 293.5 KiB