Package: epivizrStandalone Version: 1.37.0 Command: /home/biocbuild/bbs-3.22-bioc/R/bin/R CMD INSTALL epivizrStandalone StartedAt: 2025-07-14 15:45:50 -0400 (Mon, 14 Jul 2025) EndedAt: 2025-07-14 15:46:37 -0400 (Mon, 14 Jul 2025) EllapsedTime: 47.0 seconds RetCode: 0 Status: OK