Package: epivizrStandalone Version: 1.37.0 Command: /Library/Frameworks/R.framework/Resources/bin/R CMD INSTALL epivizrStandalone StartedAt: 2025-07-14 15:47:11 -0400 (Mon, 14 Jul 2025) EndedAt: 2025-07-14 15:48:04 -0400 (Mon, 14 Jul 2025) EllapsedTime: 53.0 seconds RetCode: 0 Status: OK