Package: epivizrStandalone Version: 1.37.0 Command: /Library/Frameworks/R.framework/Resources/bin/R CMD check --install=check:epivizrStandalone.install-out.txt --library=/Library/Frameworks/R.framework/Resources/library --no-vignettes --timings epivizrStandalone_1.37.0.tar.gz StartedAt: 2025-07-14 20:39:08 -0400 (Mon, 14 Jul 2025) EndedAt: 2025-07-14 20:45:05 -0400 (Mon, 14 Jul 2025) EllapsedTime: 356.8 seconds RetCode: 0 Status: WARNINGS CheckDir: epivizrStandalone.Rcheck Warnings: 2