Package: epivizrStandalone Version: 1.37.0 Command: /Library/Frameworks/R.framework/Resources/bin/R CMD build --keep-empty-dirs --no-resave-data epivizrStandalone StartedAt: 2025-07-14 16:54:19 -0400 (Mon, 14 Jul 2025) EndedAt: 2025-07-14 16:55:02 -0400 (Mon, 14 Jul 2025) EllapsedTime: 42.2 seconds RetCode: 0 Status: OK PackageFile: epivizrStandalone_1.37.0.tar.gz PackageFileSize: 220 KiB