Package: epivizrStandalone Version: 1.37.0 Command: rm -rf epivizrStandalone.buildbin-libdir && mkdir epivizrStandalone.buildbin-libdir && /Users/biocbuild/BBS/utils/build-universal.sh epivizrStandalone_1.37.0.tar.gz /Library/Frameworks/R.framework/Resources/bin/R epivizrStandalone.buildbin-libdir StartedAt: 2025-07-15 00:56:15 -0400 (Tue, 15 Jul 2025) EndedAt: 2025-07-15 00:57:11 -0400 (Tue, 15 Jul 2025) EllapsedTime: 55.6 seconds RetCode: 0 Status: OK PackageFile: epivizrStandalone_1.37.0.tgz PackageFileSize: 250.3 KiB