Package: epivizrStandalone Version: 1.37.0 Command: /Library/Frameworks/R.framework/Resources/bin/R CMD build --keep-empty-dirs --no-resave-data epivizrStandalone StartedAt: 2025-07-16 16:15:46 -0400 (Wed, 16 Jul 2025) EndedAt: 2025-07-16 16:16:03 -0400 (Wed, 16 Jul 2025) EllapsedTime: 17.2 seconds RetCode: 0 Status: OK PackageFile: epivizrStandalone_1.37.0.tar.gz PackageFileSize: 270.2 KiB