Package: epivizrStandalone Version: 1.37.0 Command: rm -rf epivizrStandalone.buildbin-libdir && mkdir epivizrStandalone.buildbin-libdir && /Users/biocbuild/BBS/utils/build-universal.sh epivizrStandalone_1.37.0.tar.gz /Library/Frameworks/R.framework/Resources/bin/R epivizrStandalone.buildbin-libdir StartedAt: 2025-07-16 22:17:39 -0400 (Wed, 16 Jul 2025) EndedAt: 2025-07-16 22:17:56 -0400 (Wed, 16 Jul 2025) EllapsedTime: 17.4 seconds RetCode: 0 Status: OK PackageFile: epivizrStandalone_1.37.0.tgz PackageFileSize: 300.2 KiB