Package: epivizrServer Version: 1.37.0 Command: /Library/Frameworks/R.framework/Resources/bin/R CMD INSTALL epivizrServer StartedAt: 2025-07-01 15:02:34 -0400 (Tue, 01 Jul 2025) EndedAt: 2025-07-01 15:02:39 -0400 (Tue, 01 Jul 2025) EllapsedTime: 4.8 seconds RetCode: 0 Status: OK