Package: epivizrServer Version: 1.37.0 Command: /Library/Frameworks/R.framework/Resources/bin/R CMD build --keep-empty-dirs --no-resave-data epivizrServer StartedAt: 2025-07-01 16:15:54 -0400 (Tue, 01 Jul 2025) EndedAt: 2025-07-01 16:15:57 -0400 (Tue, 01 Jul 2025) EllapsedTime: 3.0 seconds RetCode: 1 Status: ERROR PackageFile: None PackageFileSize: NA