Package: epivizrServer Version: 1.37.0 Command: rm -rf epivizrServer.buildbin-libdir && mkdir epivizrServer.buildbin-libdir && /Users/biocbuild/BBS/utils/build-universal.sh epivizrServer_1.37.0.tar.gz /Library/Frameworks/R.framework/Resources/bin/R epivizrServer.buildbin-libdir StartedAt: 2025-06-30 22:13:24 -0400 (Mon, 30 Jun 2025) EndedAt: 2025-06-30 22:13:26 -0400 (Mon, 30 Jun 2025) EllapsedTime: 2.0 seconds RetCode: 0 Status: OK PackageFile: epivizrServer_1.37.0.tgz PackageFileSize: 458.6 KiB