Package: epivizr Version: 2.39.0 Command: F:\biocbuild\bbs-3.22-bioc\R\bin\R.exe CMD INSTALL epivizr StartedAt: 2025-07-20 16:11:54 -0400 (Sun, 20 Jul 2025) EndedAt: 2025-07-20 16:12:54 -0400 (Sun, 20 Jul 2025) EllapsedTime: 60.7 seconds RetCode: 0 Status: OK