Package: epivizr Version: 2.39.0 Command: chmod a+r epivizr -R && F:\biocbuild\bbs-3.22-bioc\R\bin\R.exe CMD build --keep-empty-dirs --no-resave-data epivizr StartedAt: 2025-07-20 18:50:52 -0400 (Sun, 20 Jul 2025) EndedAt: 2025-07-20 18:52:11 -0400 (Sun, 20 Jul 2025) EllapsedTime: 78.2 seconds RetCode: 0 Status: OK PackageFile: epivizr_2.39.0.tar.gz PackageFileSize: 1.139 MiB