Package: epivizr Version: 2.39.0 Command: rm -rf epivizr.buildbin-libdir && mkdir epivizr.buildbin-libdir && F:\biocbuild\bbs-3.22-bioc\R\bin\R.exe CMD INSTALL --build --library=epivizr.buildbin-libdir epivizr_2.39.0.tar.gz StartedAt: 2025-07-21 09:00:29 -0400 (Mon, 21 Jul 2025) EndedAt: 2025-07-21 09:01:46 -0400 (Mon, 21 Jul 2025) EllapsedTime: 76.8 seconds RetCode: 0 Status: OK PackageFile: epivizr_2.39.0.zip PackageFileSize: 1.989 MiB