Package: epistasisGA Version: 1.11.2 Command: F:\biocbuild\bbs-3.22-bioc\R\bin\R.exe CMD check --no-multiarch --install=check:epistasisGA.install-out.txt --library=F:\biocbuild\bbs-3.22-bioc\R\library --no-vignettes --timings epistasisGA_1.11.2.tar.gz StartedAt: 2025-07-18 01:46:01 -0400 (Fri, 18 Jul 2025) EndedAt: 2025-07-18 01:52:16 -0400 (Fri, 18 Jul 2025) EllapsedTime: 375.9 seconds RetCode: 0 Status: OK CheckDir: epistasisGA.Rcheck Warnings: 0