Package: epistasisGA Version: 1.11.2 Command: rm -rf epistasisGA.buildbin-libdir && mkdir epistasisGA.buildbin-libdir && F:\biocbuild\bbs-3.22-bioc\R\bin\R.exe CMD INSTALL --build --library=epistasisGA.buildbin-libdir epistasisGA_1.11.2.tar.gz StartedAt: 2025-07-17 08:55:28 -0400 (Thu, 17 Jul 2025) EndedAt: 2025-07-17 08:56:47 -0400 (Thu, 17 Jul 2025) EllapsedTime: 78.7 seconds RetCode: 0 Status: OK PackageFile: epistasisGA_1.11.2.zip PackageFileSize: 1.993 MiB