Package: epistasisGA Version: 1.11.2 Command: rm -rf epistasisGA.buildbin-libdir && mkdir epistasisGA.buildbin-libdir && /Users/biocbuild/BBS/utils/build-universal.sh epistasisGA_1.11.2.tar.gz /Library/Frameworks/R.framework/Resources/bin/R epistasisGA.buildbin-libdir StartedAt: 2025-10-10 22:40:28 -0400 (Fri, 10 Oct 2025) EndedAt: 2025-10-10 22:40:44 -0400 (Fri, 10 Oct 2025) EllapsedTime: 16.3 seconds RetCode: 0 Status: OK PackageFile: epistasisGA_1.11.2.tgz PackageFileSize: 2.42 MiB