Package: epistack Version: 1.15.0 Command: /home/biocbuild/R/R/bin/R CMD check --install=check:epistack.install-out.txt --library=/home/biocbuild/R/R/site-library --no-vignettes --timings epistack_1.15.0.tar.gz StartedAt: 2025-07-15 07:10:23 -0000 (Tue, 15 Jul 2025) EndedAt: 2025-07-15 07:14:08 -0000 (Tue, 15 Jul 2025) EllapsedTime: 225.2 seconds RetCode: 1 Status: ERROR CheckDir: epistack.Rcheck Warnings: NA