Package: epistack Version: 1.15.0 Command: chmod a+r epistack -R && F:\biocbuild\bbs-3.22-bioc\R\bin\R.exe CMD build --keep-empty-dirs --no-resave-data epistack StartedAt: 2025-07-22 18:51:39 -0400 (Tue, 22 Jul 2025) EndedAt: 2025-07-22 19:05:40 -0400 (Tue, 22 Jul 2025) EllapsedTime: 840.4 seconds RetCode: 0 Status: OK PackageFile: epistack_1.15.0.tar.gz PackageFileSize: 3.189 MiB