Package: epistack Version: 1.15.0 Command: /Library/Frameworks/R.framework/Resources/bin/R CMD check --install=check:epistack.install-out.txt --library=/Library/Frameworks/R.framework/Resources/library --no-vignettes --timings epistack_1.15.0.tar.gz StartedAt: 2025-07-07 20:33:57 -0400 (Mon, 07 Jul 2025) EndedAt: 2025-07-07 20:37:02 -0400 (Mon, 07 Jul 2025) EllapsedTime: 184.1 seconds RetCode: 0 Status: OK CheckDir: epistack.Rcheck Warnings: 0