Package: epistack Version: 1.15.0 Command: /Library/Frameworks/R.framework/Resources/bin/R CMD build --keep-empty-dirs --no-resave-data epistack StartedAt: 2025-07-07 16:51:06 -0400 (Mon, 07 Jul 2025) EndedAt: 2025-07-07 16:52:43 -0400 (Mon, 07 Jul 2025) EllapsedTime: 96.9 seconds RetCode: 0 Status: OK PackageFile: epistack_1.15.0.tar.gz PackageFileSize: 3.946 MiB