Package: epistack Version: 1.15.0 Command: rm -rf epistack.buildbin-libdir && mkdir epistack.buildbin-libdir && /Users/biocbuild/BBS/utils/build-universal.sh epistack_1.15.0.tar.gz /Library/Frameworks/R.framework/Resources/bin/R epistack.buildbin-libdir StartedAt: 2025-07-08 00:51:54 -0400 (Tue, 08 Jul 2025) EndedAt: 2025-07-08 00:52:25 -0400 (Tue, 08 Jul 2025) EllapsedTime: 31.2 seconds RetCode: 0 Status: OK PackageFile: epistack_1.15.0.tgz PackageFileSize: 2.168 MiB