Package: epistack Version: 1.15.0 Command: /Library/Frameworks/R.framework/Resources/bin/R CMD build --keep-empty-dirs --no-resave-data epistack StartedAt: 2025-07-02 16:15:14 -0400 (Wed, 02 Jul 2025) EndedAt: 2025-07-02 16:15:52 -0400 (Wed, 02 Jul 2025) EllapsedTime: 37.4 seconds RetCode: 0 Status: OK PackageFile: epistack_1.15.0.tar.gz PackageFileSize: 3.947 MiB