Package: epiregulon Version: 1.5.1 Command: /home/biocbuild/R/R/bin/R CMD INSTALL epiregulon StartedAt: 2025-06-30 21:22:52 -0000 (Mon, 30 Jun 2025) EndedAt: 2025-06-30 21:22:53 -0000 (Mon, 30 Jun 2025) EllapsedTime: 1.0 seconds RetCode: 1 Status: ERROR