Package: epiregulon Version: 1.5.1 Command: F:\biocbuild\bbs-3.22-bioc\R\bin\R.exe CMD check --no-multiarch --install=check:epiregulon.install-out.txt --library=F:\biocbuild\bbs-3.22-bioc\R\library --no-vignettes --timings epiregulon_1.5.1.tar.gz StartedAt: 2025-07-15 01:47:23 -0400 (Tue, 15 Jul 2025) EndedAt: 2025-07-15 02:00:20 -0400 (Tue, 15 Jul 2025) EllapsedTime: 777.2 seconds RetCode: 0 Status: OK CheckDir: epiregulon.Rcheck Warnings: 0