Package: epiregulon Version: 1.5.1 Command: rm -rf epiregulon.buildbin-libdir && mkdir epiregulon.buildbin-libdir && F:\biocbuild\bbs-3.22-bioc\R\bin\R.exe CMD INSTALL --build --library=epiregulon.buildbin-libdir epiregulon_1.5.1.tar.gz StartedAt: 2025-07-14 08:56:07 -0400 (Mon, 14 Jul 2025) EndedAt: 2025-07-14 08:57:18 -0400 (Mon, 14 Jul 2025) EllapsedTime: 71.0 seconds RetCode: 0 Status: OK PackageFile: epiregulon_1.5.1.zip PackageFileSize: 1.156 MiB